BEGIN:VCALENDAR
VERSION:2.0
PRODID:-//Grenzgänger SHG - ECPv6.15.20//NONSGML v1.0//EN
CALSCALE:GREGORIAN
METHOD:PUBLISH
X-WR-CALNAME:Grenzgänger SHG
X-ORIGINAL-URL:https://grenzgaenger-shg.de
X-WR-CALDESC:Veranstaltungen für Grenzgänger SHG
REFRESH-INTERVAL;VALUE=DURATION:PT1H
X-Robots-Tag:noindex
X-PUBLISHED-TTL:PT1H
BEGIN:VTIMEZONE
TZID:UTC
BEGIN:STANDARD
TZOFFSETFROM:+0000
TZOFFSETTO:+0000
TZNAME:UTC
DTSTART:20250101T000000
END:STANDARD
END:VTIMEZONE
BEGIN:VEVENT
DTSTART;TZID=UTC:20260511T170000
DTEND;TZID=UTC:20260511T190000
DTSTAMP:20260420T082609
CREATED:20260406T173131Z
LAST-MODIFIED:20260406T173131Z
UID:1419-1778518800-1778526000@grenzgaenger-shg.de
SUMMARY:Selbsthilfegruppe Borderline 11.05.2026
DESCRIPTION:In der Borderline-Gruppe treffen wir uns\, um uns gegenseitig auszutauschen & uns gegenseitig zu unterstützen. Alle Gruppenteilnehmer sind Betroffene – auch die ausgebildeten Gruppenleiter. \nIn unserer Gruppe wird niemand gezwungen über ein Thema zu reden – wir sind da ums gegenseitig zu stärken. \nInhalte: \n\nAllgemeine Themen (Klinikaufenthalte\, Wut u.ä.)\nTrainings (z.B. gewaltfreie Kommunikation)\nBefindlichkeitsrunde & Feedback\nWunschthemen der Gruppe\n\nHier anmelden: \nE-Mail: tanja-grenzgaenger-shg@gmx.de
URL:https://grenzgaenger-shg.de/termin/selbsthilfegruppe-borderline-11-05-26-2-2-2-2-2-2-2-2-2-2-2-2-2-2-2-2-2-2-2-2-2-2-2-2-2-2-2-2/
LOCATION:St. Marien-Hospital\, Adolfstr.23\, Mülheim an der Ruhr\, 45468\, Germany
END:VEVENT
END:VCALENDAR